BEGIN:VCALENDAR
PRODID:-//eluceo/ical//2.0/EN
VERSION:2.0
CALSCALE:GREGORIAN
BEGIN:VEVENT
UID:92170e1318a01cd4f264e1bc3724adc3
DTSTAMP:20260423T122813Z
SUMMARY:Stjórnarfundur
DESCRIPTION:
URL:https://borgarnes.rotary1360.is/is/agenda/show/3111
DTSTART;TZID=Iceland:20210929T170000
DTEND;TZID=Iceland:20210929T183000
LOCATION:Fosshótel Reykholti\n
CATEGORIES:Rotary
END:VEVENT
BEGIN:VTIMEZONE
TZID:Iceland
BEGIN:STANDARD
DTSTART:20210929T170000
TZNAME:GMT
TZOFFSETTO:+0000
TZOFFSETFROM:+0000
END:STANDARD
END:VTIMEZONE
END:VCALENDAR
